BEGIN:VCALENDAR
VERSION:2.0
PRODID:-//Calcutta International School - ECPv6.15.11//NONSGML v1.0//EN
CALSCALE:GREGORIAN
METHOD:PUBLISH
X-ORIGINAL-URL:https://calcuttais.edu.in
X-WR-CALDESC:Events for Calcutta International School
REFRESH-INTERVAL;VALUE=DURATION:PT1H
X-Robots-Tag:noindex
X-PUBLISHED-TTL:PT1H
BEGIN:VTIMEZONE
TZID:Asia/Kolkata
BEGIN:STANDARD
TZOFFSETFROM:+0530
TZOFFSETTO:+0530
TZNAME:IST
DTSTART:20240101T000000
END:STANDARD
END:VTIMEZONE
BEGIN:VEVENT
DTSTART;VALUE=DATE:20250815
DTEND;VALUE=DATE:20250816
DTSTAMP:20260425T043148
CREATED:20250624T071224Z
LAST-MODIFIED:20250624T071224Z
UID:1074-1755216000-1755302399@calcuttais.edu.in
SUMMARY:INDEPENDENCE DAY - HOLIDAY
DESCRIPTION:
URL:https://calcuttais.edu.in/event/independence-day-holiday/
CATEGORIES:Holiday
END:VEVENT
END:VCALENDAR