BEGIN:VCALENDAR
VERSION:2.0
PRODID:-//Calcutta International School - ECPv6.15.11//NONSGML v1.0//EN
CALSCALE:GREGORIAN
METHOD:PUBLISH
X-WR-CALNAME:Calcutta International School
X-ORIGINAL-URL:https://calcuttais.edu.in
X-WR-CALDESC:Events for Calcutta International School
REFRESH-INTERVAL;VALUE=DURATION:PT1H
X-Robots-Tag:noindex
X-PUBLISHED-TTL:PT1H
BEGIN:VTIMEZONE
TZID:Asia/Kolkata
BEGIN:STANDARD
TZOFFSETFROM:+0530
TZOFFSETTO:+0530
TZNAME:IST
DTSTART:20240101T000000
END:STANDARD
END:VTIMEZONE
BEGIN:VEVENT
DTSTART;VALUE=DATE:20250606
DTEND;VALUE=DATE:20250607
DTSTAMP:20260424T173128
CREATED:20250624T051046Z
LAST-MODIFIED:20250624T052210Z
UID:994-1749168000-1749254399@calcuttais.edu.in
SUMMARY:ID-UD-ZOHA (Bakrid) - HOLIDAY
DESCRIPTION:ID-UD-ZOHA (Bakrid) – HOLIDAY
URL:https://calcuttais.edu.in/event/id-ud-zoha-bakrid-holiday/
CATEGORIES:Holiday
END:VEVENT
BEGIN:VEVENT
DTSTART;VALUE=DATE:20250610
DTEND;VALUE=DATE:20250611
DTSTAMP:20260424T173128
CREATED:20250624T051111Z
LAST-MODIFIED:20250624T052222Z
UID:996-1749513600-1749599999@calcuttais.edu.in
SUMMARY:Tuesday	School Reopening for Teachers
DESCRIPTION:Tuesday	School Reopening for Teachers
URL:https://calcuttais.edu.in/event/tuesdayschool-reopening-for-teachers/
END:VEVENT
BEGIN:VEVENT
DTSTART;VALUE=DATE:20250617
DTEND;VALUE=DATE:20250618
DTSTAMP:20260424T173128
CREATED:20250624T051135Z
LAST-MODIFIED:20250624T051433Z
UID:998-1750118400-1750204799@calcuttais.edu.in
SUMMARY:Senior School New Parents and Students Orientation.
DESCRIPTION:Senior School New Parents and Students Orientation.
URL:https://calcuttais.edu.in/event/senior-school-new-parents-and-students-orientation/
END:VEVENT
BEGIN:VEVENT
DTSTART;VALUE=DATE:20250618
DTEND;VALUE=DATE:20250619
DTSTAMP:20260424T173128
CREATED:20250624T051248Z
LAST-MODIFIED:20250624T051358Z
UID:1000-1750204800-1750291199@calcuttais.edu.in
SUMMARY:School reopens for students Welcome Assembly for Grades 6 to 10 and IB2
DESCRIPTION:School reopens for students\nWelcome Assembly for Grades 6 to 10 and IB2
URL:https://calcuttais.edu.in/event/school-reopens-for-students-welcome-assembly-for-grades-6-to-10-and-ib2/
END:VEVENT
BEGIN:VEVENT
DTSTART;VALUE=DATE:20250620
DTEND;VALUE=DATE:20250621
DTSTAMP:20260424T173128
CREATED:20250624T051312Z
LAST-MODIFIED:20250624T051312Z
UID:1002-1750377600-1750463999@calcuttais.edu.in
SUMMARY:Welcome Assembly for Junior Section  ECA Orientation Revision Tests start for Grade IB2
DESCRIPTION:Welcome Assembly for Junior Section\nECA Orientation\nRevision Tests start for Grade IB2
URL:https://calcuttais.edu.in/event/welcome-assembly-for-junior-section-eca-orientation-revision-tests-start-for-grade-ib2/
END:VEVENT
BEGIN:VEVENT
DTSTART;VALUE=DATE:20250623
DTEND;VALUE=DATE:20250624
DTSTAMP:20260424T173128
CREATED:20250624T051515Z
LAST-MODIFIED:20250624T051515Z
UID:1004-1750636800-1750723199@calcuttais.edu.in
SUMMARY:Parent Orientation for Grade 9 School Reopens for Grades AS\, A2 and IB1
DESCRIPTION:Parent Orientation for Grade 9\nSchool Reopens for Grades AS\, A2 and IB1
URL:https://calcuttais.edu.in/event/parent-orientation-for-grade-9-school-reopens-for-grades-as-a2-and-ib1/
END:VEVENT
BEGIN:VEVENT
DTSTART;VALUE=DATE:20250625
DTEND;VALUE=DATE:20250626
DTSTAMP:20260424T173128
CREATED:20250624T051537Z
LAST-MODIFIED:20250624T051537Z
UID:1006-1750809600-1750895999@calcuttais.edu.in
SUMMARY:Special Graduation Assembly
DESCRIPTION:Special Graduation Assembly
URL:https://calcuttais.edu.in/event/special-graduation-assembly/
END:VEVENT
BEGIN:VEVENT
DTSTART;VALUE=DATE:20250627
DTEND;VALUE=DATE:20250628
DTSTAMP:20260424T173128
CREATED:20250624T051647Z
LAST-MODIFIED:20250624T051647Z
UID:1008-1750982400-1751068799@calcuttais.edu.in
SUMMARY:Club Fair
DESCRIPTION:Club Fair\nGraduation ceremony for the Batch of 2025
URL:https://calcuttais.edu.in/event/club-fair/
END:VEVENT
BEGIN:VEVENT
DTSTART;VALUE=DATE:20250629
DTEND;VALUE=DATE:20250708
DTSTAMP:20260424T173128
CREATED:20250624T051803Z
LAST-MODIFIED:20250624T051803Z
UID:1010-1751155200-1751932799@calcuttais.edu.in
SUMMARY:Alfrink Trip - Grade 10
DESCRIPTION:Alfrink Trip – Grade 10
URL:https://calcuttais.edu.in/event/alfrink-trip-grade-10/
CATEGORIES:Trip
END:VEVENT
BEGIN:VEVENT
DTSTART;VALUE=DATE:20250630
DTEND;VALUE=DATE:20250701
DTSTAMP:20260424T173128
CREATED:20250624T051841Z
LAST-MODIFIED:20250624T051841Z
UID:1012-1751241600-1751327999@calcuttais.edu.in
SUMMARY:"Parent Orientation for Grade AS  Parent Orientationfor Grade IB1"
DESCRIPTION:“Parent Orientation for Grade AS\nParent Orientationfor Grade IB1”
URL:https://calcuttais.edu.in/event/parent-orientation-for-grade-as-parent-orientationfor-grade-ib1/
END:VEVENT
END:VCALENDAR