BEGIN:VCALENDAR
VERSION:2.0
PRODID:-//Calcutta International School - ECPv6.15.11//NONSGML v1.0//EN
CALSCALE:GREGORIAN
METHOD:PUBLISH
X-ORIGINAL-URL:https://calcuttais.edu.in
X-WR-CALDESC:Events for Calcutta International School
REFRESH-INTERVAL;VALUE=DURATION:PT1H
X-Robots-Tag:noindex
X-PUBLISHED-TTL:PT1H
BEGIN:VTIMEZONE
TZID:Asia/Kolkata
BEGIN:STANDARD
TZOFFSETFROM:+0530
TZOFFSETTO:+0530
TZNAME:IST
DTSTART:20240101T000000
END:STANDARD
END:VTIMEZONE
BEGIN:VEVENT
DTSTART;VALUE=DATE:20250629
DTEND;VALUE=DATE:20250708
DTSTAMP:20260424T152702
CREATED:20250624T051803Z
LAST-MODIFIED:20250624T051803Z
UID:1010-1751155200-1751932799@calcuttais.edu.in
SUMMARY:Alfrink Trip - Grade 10
DESCRIPTION:Alfrink Trip – Grade 10
URL:https://calcuttais.edu.in/event/alfrink-trip-grade-10/
CATEGORIES:Trip
END:VEVENT
BEGIN:VEVENT
DTSTART;VALUE=DATE:20250701
DTEND;VALUE=DATE:20250702
DTSTAMP:20260424T152702
CREATED:20250624T065347Z
LAST-MODIFIED:20250624T065402Z
UID:1014-1751328000-1751414399@calcuttais.edu.in
SUMMARY:ECA begins
DESCRIPTION:
URL:https://calcuttais.edu.in/event/eca-begins/
END:VEVENT
BEGIN:VEVENT
DTSTART;VALUE=DATE:20250702
DTEND;VALUE=DATE:20250703
DTSTAMP:20260424T152702
CREATED:20250624T065442Z
LAST-MODIFIED:20250624T065445Z
UID:1017-1751414400-1751500799@calcuttais.edu.in
SUMMARY:Revision Test for IB2 ends
DESCRIPTION:
URL:https://calcuttais.edu.in/event/revision-test-for-ib2-ends/
END:VEVENT
BEGIN:VEVENT
DTSTART;VALUE=DATE:20250704
DTEND;VALUE=DATE:20250705
DTSTAMP:20260424T152702
CREATED:20250624T065538Z
LAST-MODIFIED:20250624T065538Z
UID:1019-1751587200-1751673599@calcuttais.edu.in
SUMMARY:Parent Orientation for Grade 6 University Fair for Grades 8 to 12
DESCRIPTION:
URL:https://calcuttais.edu.in/event/parent-orientation-for-grade-6-university-fair-for-grades-8-to-12/
END:VEVENT
BEGIN:VEVENT
DTSTART;VALUE=DATE:20250705
DTEND;VALUE=DATE:20250706
DTSTAMP:20260424T152702
CREATED:20250624T065700Z
LAST-MODIFIED:20250624T065725Z
UID:1021-1751673600-1751759999@calcuttais.edu.in
SUMMARY:Parent Orientation for Pre Nursery\, Nursery and Upper Nursery
DESCRIPTION:
URL:https://calcuttais.edu.in/event/parent-orientation/
END:VEVENT
BEGIN:VEVENT
DTSTART;VALUE=DATE:20250705
DTEND;VALUE=DATE:20250706
DTSTAMP:20260424T152702
CREATED:20250624T114010Z
LAST-MODIFIED:20250624T114010Z
UID:1098-1751673600-1751759999@calcuttais.edu.in
SUMMARY:Teachers Day Celebration
DESCRIPTION:
URL:https://calcuttais.edu.in/event/teachers-day-celebration/
END:VEVENT
BEGIN:VEVENT
DTSTART;VALUE=DATE:20250712
DTEND;VALUE=DATE:20250713
DTSTAMP:20260424T152702
CREATED:20250624T065741Z
LAST-MODIFIED:20250624T065741Z
UID:1024-1752278400-1752364799@calcuttais.edu.in
SUMMARY:ACT
DESCRIPTION:
URL:https://calcuttais.edu.in/event/act/
END:VEVENT
BEGIN:VEVENT
DTSTART;VALUE=DATE:20250715
DTEND;VALUE=DATE:20250716
DTSTAMP:20260424T152702
CREATED:20250624T065818Z
LAST-MODIFIED:20250624T065903Z
UID:1026-1752537600-1752623999@calcuttais.edu.in
SUMMARY:TOK Exhibition- Grade IB2 Coffee Meet for Grade IB2
DESCRIPTION:
URL:https://calcuttais.edu.in/event/tok-exhibition-grade-ib2-coffee-meet-for-grade-ib2/
END:VEVENT
BEGIN:VEVENT
DTSTART;VALUE=DATE:20250716
DTEND;VALUE=DATE:20250717
DTSTAMP:20260424T152702
CREATED:20250624T065926Z
LAST-MODIFIED:20250624T065926Z
UID:1029-1752624000-1752710399@calcuttais.edu.in
SUMMARY:Student Council Elections
DESCRIPTION:
URL:https://calcuttais.edu.in/event/student-council-elections/
END:VEVENT
BEGIN:VEVENT
DTSTART;VALUE=DATE:20250718
DTEND;VALUE=DATE:20250719
DTSTAMP:20260424T152702
CREATED:20250624T065946Z
LAST-MODIFIED:20250624T070022Z
UID:1031-1752796800-1752883199@calcuttais.edu.in
SUMMARY:Senior School Student Council Investiture CeremonyCoffee Meet for Grade A2 Mid-year Alumni Day
DESCRIPTION:
URL:https://calcuttais.edu.in/event/senior-school-student-council-investiture-ceremony-coffee-meet-for-grade-a2-mid-year-alumni-day/
END:VEVENT
BEGIN:VEVENT
DTSTART;VALUE=DATE:20250719
DTEND;VALUE=DATE:20250720
DTSTAMP:20260424T152702
CREATED:20250624T070120Z
LAST-MODIFIED:20250624T070230Z
UID:1034-1752883200-1752969599@calcuttais.edu.in
SUMMARY:Orientation for Parents Grade 1 - 9.00am - 10.00am Grade 3 - 10.30am - 11.30am
DESCRIPTION:
URL:https://calcuttais.edu.in/event/orientation-for-parents-grade-1-9-00am-10-00am-grade-3-10-30am-11-30am/
END:VEVENT
BEGIN:VEVENT
DTSTART;VALUE=DATE:20250721
DTEND;VALUE=DATE:20250722
DTSTAMP:20260424T152702
CREATED:20250624T070249Z
LAST-MODIFIED:20250624T070249Z
UID:1037-1753056000-1753142399@calcuttais.edu.in
SUMMARY:SCHOOL CLOSED FOR STUDENTS
DESCRIPTION:
URL:https://calcuttais.edu.in/event/school-closed-for-students/
CATEGORIES:Holiday
END:VEVENT
BEGIN:VEVENT
DTSTART;VALUE=DATE:20250725
DTEND;VALUE=DATE:20250728
DTSTAMP:20260424T152702
CREATED:20250624T070315Z
LAST-MODIFIED:20250624T070315Z
UID:1039-1753401600-1753660799@calcuttais.edu.in
SUMMARY:Confluence
DESCRIPTION:
URL:https://calcuttais.edu.in/event/confluence/
END:VEVENT
BEGIN:VEVENT
DTSTART;VALUE=DATE:20250726
DTEND;VALUE=DATE:20250727
DTSTAMP:20260424T152702
CREATED:20250624T070421Z
LAST-MODIFIED:20250624T070506Z
UID:1041-1753488000-1753574399@calcuttais.edu.in
SUMMARY:Orientation for Parents Grade 2 - 9.00am - 10.00am Grade 4 - 10.30am - 11.30am Grade 5 - 12.00pm - 1.00pm
DESCRIPTION:
URL:https://calcuttais.edu.in/event/orientation-for-parents-grade-2-9-00am-10-00am-grade-4-10-30am-11-30am-grade-5-12-00pm-1-00pm/
CATEGORIES:Orientation
END:VEVENT
BEGIN:VEVENT
DTSTART;VALUE=DATE:20250727
DTEND;VALUE=DATE:20250728
DTSTAMP:20260424T152702
CREATED:20250624T070534Z
LAST-MODIFIED:20250624T070534Z
UID:1044-1753574400-1753660799@calcuttais.edu.in
SUMMARY:Confluence Ends
DESCRIPTION:
URL:https://calcuttais.edu.in/event/confluence-ends/
END:VEVENT
BEGIN:VEVENT
DTSTART;VALUE=DATE:20250728
DTEND;VALUE=DATE:20250729
DTSTAMP:20260424T152702
CREATED:20250624T070606Z
LAST-MODIFIED:20250624T070606Z
UID:1046-1753660800-1753747199@calcuttais.edu.in
SUMMARY:Holiday for Confluence -Senior School Online check-in Pre-Nursery-Grades
DESCRIPTION:
URL:https://calcuttais.edu.in/event/holiday-for-confluence-senior-school-online-check-in-pre-nursery-grades/
END:VEVENT
BEGIN:VEVENT
DTSTART;VALUE=DATE:20250729
DTEND;VALUE=DATE:20250730
DTSTAMP:20260424T152702
CREATED:20250624T070645Z
LAST-MODIFIED:20250624T070645Z
UID:1048-1753747200-1753833599@calcuttais.edu.in
SUMMARY:Term 1 Scheduled Tests start for Grade IB2  Online check-in grades 2 to 5
DESCRIPTION:
URL:https://calcuttais.edu.in/event/term-1-scheduled-tests-start-for-grade-ib2-online-check-in-grades-2-to-5/
END:VEVENT
BEGIN:VEVENT
DTSTART;VALUE=DATE:20250730
DTEND;VALUE=DATE:20250731
DTSTAMP:20260424T152702
CREATED:20250624T070706Z
LAST-MODIFIED:20250624T070706Z
UID:1050-1753833600-1753919999@calcuttais.edu.in
SUMMARY:Coffee Meet for Grade 10
DESCRIPTION:
URL:https://calcuttais.edu.in/event/coffee-meet-for-grade-10/
END:VEVENT
BEGIN:VEVENT
DTSTART;VALUE=DATE:20250731
DTEND;VALUE=DATE:20250801
DTSTAMP:20260424T152702
CREATED:20250624T070729Z
LAST-MODIFIED:20250624T070729Z
UID:1052-1753920000-1754006399@calcuttais.edu.in
SUMMARY:Junior Section Student Council Investiture Ceremony - 8.30am-11.00am
DESCRIPTION:
URL:https://calcuttais.edu.in/event/junior-section-student-council-investiture-ceremony-8-30am-11-00am/
END:VEVENT
END:VCALENDAR