BEGIN:VCALENDAR
VERSION:2.0
PRODID:-//Calcutta International School - ECPv6.15.11//NONSGML v1.0//EN
CALSCALE:GREGORIAN
METHOD:PUBLISH
X-WR-CALNAME:Calcutta International School
X-ORIGINAL-URL:https://calcuttais.edu.in
X-WR-CALDESC:Events for Calcutta International School
REFRESH-INTERVAL;VALUE=DURATION:PT1H
X-Robots-Tag:noindex
X-PUBLISHED-TTL:PT1H
BEGIN:VTIMEZONE
TZID:Asia/Kolkata
BEGIN:STANDARD
TZOFFSETFROM:+0530
TZOFFSETTO:+0530
TZNAME:IST
DTSTART:20240101T000000
END:STANDARD
END:VTIMEZONE
BEGIN:VEVENT
DTSTART;VALUE=DATE:20250811
DTEND;VALUE=DATE:20251014
DTSTAMP:20260424T082033
CREATED:20250624T071051Z
LAST-MODIFIED:20250624T071051Z
UID:1068-1754870400-1760399999@calcuttais.edu.in
SUMMARY:Girls Inter House Basket Ball for Grades 9 to 12 Boys Inter House Table Tennis for Grades 9 to 12
DESCRIPTION:
URL:https://calcuttais.edu.in/event/girls-inter-house-basket-ball-for-grades-9-to-12-boys-inter-house-table-tennis-for-grades-9-to-12/
END:VEVENT
BEGIN:VEVENT
DTSTART;VALUE=DATE:20250927
DTEND;VALUE=DATE:20251013
DTSTAMP:20260424T082033
CREATED:20250624T115537Z
LAST-MODIFIED:20250624T115537Z
UID:1140-1758931200-1760313599@calcuttais.edu.in
SUMMARY:DURGA PUJA (SASHTI TO LAXMI PUJA) - HOLIDAYS
DESCRIPTION:
URL:https://calcuttais.edu.in/event/durga-puja-sashti-to-laxmi-puja-holidays/
CATEGORIES:Holiday
END:VEVENT
BEGIN:VEVENT
DTSTART;VALUE=DATE:20251013
DTEND;VALUE=DATE:20251014
DTSTAMP:20260424T082033
CREATED:20250624T115828Z
LAST-MODIFIED:20250624T115828Z
UID:1142-1760313600-1760399999@calcuttais.edu.in
SUMMARY:School reopens for Teachers and Students Junior Section Sports day practice to start
DESCRIPTION:
URL:https://calcuttais.edu.in/event/school-reopens-for-teachers-and-students-junior-section-sports-day-practice-to-start/
END:VEVENT
BEGIN:VEVENT
DTSTART;VALUE=DATE:20251016
DTEND;VALUE=DATE:20251017
DTSTAMP:20260424T082033
CREATED:20250624T115851Z
LAST-MODIFIED:20250624T115851Z
UID:1144-1760572800-1760659199@calcuttais.edu.in
SUMMARY:PSAT for Grade 10
DESCRIPTION:
URL:https://calcuttais.edu.in/event/psat-for-grade-10/
END:VEVENT
BEGIN:VEVENT
DTSTART;VALUE=DATE:20251017
DTEND;VALUE=DATE:20251018
DTSTAMP:20260424T082033
CREATED:20250624T120012Z
LAST-MODIFIED:20250624T120012Z
UID:1146-1760659200-1760745599@calcuttais.edu.in
SUMMARY:Primary & Junior Section Library Selfie Day Primary & Junior Section World Mental Health day student activity World Mental Health Day (Grades 6 to 12) Coffee Meet for Grade AS
DESCRIPTION:
URL:https://calcuttais.edu.in/event/primary-junior-section-library-selfie-day-primary-junior-section-world-mental-health-day-student-activity-world-mental-health-day-grades-6-to-12-coffee-meet-for-grade-as/
END:VEVENT
BEGIN:VEVENT
DTSTART;VALUE=DATE:20251019
DTEND;VALUE=DATE:20251027
DTSTAMP:20260424T082033
CREATED:20250624T120053Z
LAST-MODIFIED:20250624T120053Z
UID:1148-1760832000-1761523199@calcuttais.edu.in
SUMMARY:KALI PUJA / DIWALI / BHAI PHONTA - HOLIDAYS
DESCRIPTION:
URL:https://calcuttais.edu.in/event/kali-puja-diwali-bhai-phonta-holidays/
CATEGORIES:Holiday
END:VEVENT
BEGIN:VEVENT
DTSTART;VALUE=DATE:20251025
DTEND;VALUE=DATE:20251026
DTSTAMP:20260424T082033
CREATED:20250624T120116Z
LAST-MODIFIED:20250624T120116Z
UID:1150-1761350400-1761436799@calcuttais.edu.in
SUMMARY:ACT
DESCRIPTION:
URL:https://calcuttais.edu.in/event/act-2/
END:VEVENT
BEGIN:VEVENT
DTSTART;VALUE=DATE:20251027
DTEND;VALUE=DATE:20251028
DTSTAMP:20260424T082033
CREATED:20250624T120150Z
LAST-MODIFIED:20250624T120150Z
UID:1152-1761523200-1761609599@calcuttais.edu.in
SUMMARY:School reopens for Teachers and Students
DESCRIPTION:
URL:https://calcuttais.edu.in/event/school-reopens-for-teachers-and-students/
END:VEVENT
BEGIN:VEVENT
DTSTART;VALUE=DATE:20251029
DTEND;VALUE=DATE:20251030
DTSTAMP:20260424T082033
CREATED:20250624T120213Z
LAST-MODIFIED:20250624T120213Z
UID:1154-1761696000-1761782399@calcuttais.edu.in
SUMMARY:Coffee Meet - Pre Nursery
DESCRIPTION:
URL:https://calcuttais.edu.in/event/coffee-meet-pre-nursery/
END:VEVENT
BEGIN:VEVENT
DTSTART;VALUE=DATE:20251030
DTEND;VALUE=DATE:20251031
DTSTAMP:20260424T082033
CREATED:20250624T120239Z
LAST-MODIFIED:20250624T120239Z
UID:1156-1761782400-1761868799@calcuttais.edu.in
SUMMARY:Coffee Meet - Nursery
DESCRIPTION:
URL:https://calcuttais.edu.in/event/coffee-meet-nursery/
END:VEVENT
BEGIN:VEVENT
DTSTART;VALUE=DATE:20251031
DTEND;VALUE=DATE:20251101
DTSTAMP:20260424T082033
CREATED:20250624T120429Z
LAST-MODIFIED:20250624T120429Z
UID:1158-1761868800-1761955199@calcuttais.edu.in
SUMMARY:Coffee Meet - Upper Nursery Dyslexia Awareness with Students - Grades 1 to 5 Cricket Trials Knowledge Seminar for Grade 10 Coffee Meet for Grade IB1
DESCRIPTION:
URL:https://calcuttais.edu.in/event/coffee-meet-upper-nursery-dyslexia-awareness-with-students-grades-1-to-5-cricket-trials-knowledge-seminar-for-grade-10-coffee-meet-for-grade-ib1/
END:VEVENT
END:VCALENDAR