BEGIN:VCALENDAR
VERSION:2.0
PRODID:-//Calcutta International School - ECPv6.15.11//NONSGML v1.0//EN
CALSCALE:GREGORIAN
METHOD:PUBLISH
X-ORIGINAL-URL:https://calcuttais.edu.in
X-WR-CALDESC:Events for Calcutta International School
REFRESH-INTERVAL;VALUE=DURATION:PT1H
X-Robots-Tag:noindex
X-PUBLISHED-TTL:PT1H
BEGIN:VTIMEZONE
TZID:Asia/Kolkata
BEGIN:STANDARD
TZOFFSETFROM:+0530
TZOFFSETTO:+0530
TZNAME:IST
DTSTART:20240101T000000
END:STANDARD
END:VTIMEZONE
BEGIN:VEVENT
DTSTART;VALUE=DATE:20251101
DTEND;VALUE=DATE:20251102
DTSTAMP:20260424T063534
CREATED:20250624T120602Z
LAST-MODIFIED:20250624T120602Z
UID:1160-1761955200-1762041599@calcuttais.edu.in
SUMMARY:Interact Club Med Camp for Grades 8 to 12
DESCRIPTION:
URL:https://calcuttais.edu.in/event/interact-club-med-camp-for-grades-8-to-12/
END:VEVENT
BEGIN:VEVENT
DTSTART;VALUE=DATE:20251103
DTEND;VALUE=DATE:20251104
DTSTAMP:20260424T063534
CREATED:20250624T120616Z
LAST-MODIFIED:20250624T120616Z
UID:1162-1762128000-1762214399@calcuttais.edu.in
SUMMARY:Coffee Meet - Grade 1
DESCRIPTION:
URL:https://calcuttais.edu.in/event/coffee-meet-grade-1/
END:VEVENT
BEGIN:VEVENT
DTSTART;VALUE=DATE:20251104
DTEND;VALUE=DATE:20251105
DTSTAMP:20260424T063534
CREATED:20250624T120635Z
LAST-MODIFIED:20250624T120635Z
UID:1164-1762214400-1762300799@calcuttais.edu.in
SUMMARY:Coffee Meet - Grade 2
DESCRIPTION:
URL:https://calcuttais.edu.in/event/coffee-meet-grade-2/
END:VEVENT
BEGIN:VEVENT
DTSTART;VALUE=DATE:20251105
DTEND;VALUE=DATE:20251106
DTSTAMP:20260424T063534
CREATED:20250624T120655Z
LAST-MODIFIED:20250624T120655Z
UID:1166-1762300800-1762387199@calcuttais.edu.in
SUMMARY:Coffee Meet - Grade 3 Math/Science/ICT Quiz for Grades 9 and 10
DESCRIPTION:
URL:https://calcuttais.edu.in/event/coffee-meet-grade-3-math-science-ict-quiz-for-grades-9-and-10/
END:VEVENT
BEGIN:VEVENT
DTSTART;VALUE=DATE:20251106
DTEND;VALUE=DATE:20251107
DTSTAMP:20260424T063534
CREATED:20250624T120737Z
LAST-MODIFIED:20250624T120737Z
UID:1168-1762387200-1762473599@calcuttais.edu.in
SUMMARY:Coffee Meet - Grade 4 Study Leave for Grades 9 and 10
DESCRIPTION:
URL:https://calcuttais.edu.in/event/coffee-meet-grade-4-study-leave-for-grades-9-and-10/
END:VEVENT
BEGIN:VEVENT
DTSTART;VALUE=DATE:20251107
DTEND;VALUE=DATE:20251108
DTSTAMP:20260424T063534
CREATED:20250624T120822Z
LAST-MODIFIED:20250624T120822Z
UID:1170-1762473600-1762559999@calcuttais.edu.in
SUMMARY:Coffee Meet - Grade 5 IGKO-GK Olympiad SEN Department session with Primary Section
DESCRIPTION:
URL:https://calcuttais.edu.in/event/coffee-meet-grade-5-igko-gk-olympiad-sen-department-session-with-primary-section/
END:VEVENT
BEGIN:VEVENT
DTSTART;VALUE=DATE:20251107
DTEND;VALUE=DATE:20251129
DTSTAMP:20260424T063534
CREATED:20250624T120853Z
LAST-MODIFIED:20250624T120853Z
UID:1172-1762473600-1764374399@calcuttais.edu.in
SUMMARY:Term 1 Summative Exams start Grades 9 and 10
DESCRIPTION:
URL:https://calcuttais.edu.in/event/term-1-summative-exams-start-grades-9-and-10/
END:VEVENT
BEGIN:VEVENT
DTSTART;VALUE=DATE:20251108
DTEND;VALUE=DATE:20251109
DTSTAMP:20260424T063534
CREATED:20250624T120936Z
LAST-MODIFIED:20250624T120936Z
UID:1174-1762560000-1762646399@calcuttais.edu.in
SUMMARY:SAT
DESCRIPTION:
URL:https://calcuttais.edu.in/event/sat-2/
END:VEVENT
BEGIN:VEVENT
DTSTART;VALUE=DATE:20251110
DTEND;VALUE=DATE:20251111
DTSTAMP:20260424T063534
CREATED:20250624T121005Z
LAST-MODIFIED:20250624T121005Z
UID:1176-1762732800-1762819199@calcuttais.edu.in
SUMMARY:Grade Nursery- Safe and Unsafe Touch by the Counselling Department Children's Day Celebration for Senior School (Grades 6 to 12)
DESCRIPTION:
URL:https://calcuttais.edu.in/event/grade-nursery-safe-and-unsafe-touch-by-the-counselling-department-childrens-day-celebration-for-senior-school-grades-6-to-12/
END:VEVENT
BEGIN:VEVENT
DTSTART;VALUE=DATE:20251111
DTEND;VALUE=DATE:20251112
DTSTAMP:20260424T063534
CREATED:20250624T121032Z
LAST-MODIFIED:20250624T121032Z
UID:1178-1762819200-1762905599@calcuttais.edu.in
SUMMARY:IEO - English Olympiad
DESCRIPTION:
URL:https://calcuttais.edu.in/event/ieo-english-olympiad/
END:VEVENT
BEGIN:VEVENT
DTSTART;VALUE=DATE:20251111
DTEND;VALUE=DATE:20251115
DTSTAMP:20260424T063534
CREATED:20250624T121110Z
LAST-MODIFIED:20250624T121110Z
UID:1180-1762819200-1763164799@calcuttais.edu.in
SUMMARY:Grades 6 to 8 - Listening and Practical exams
DESCRIPTION:
URL:https://calcuttais.edu.in/event/grades-6-to-8-listening-and-practical-exams/
END:VEVENT
BEGIN:VEVENT
DTSTART;VALUE=DATE:20251112
DTEND;VALUE=DATE:20251113
DTSTAMP:20260424T063534
CREATED:20250624T121144Z
LAST-MODIFIED:20250624T121144Z
UID:1182-1762905600-1762991999@calcuttais.edu.in
SUMMARY:Grade Upper Nursery- Safe and Unsafe Touch by the Counselling Department
DESCRIPTION:
URL:https://calcuttais.edu.in/event/grade-upper-nursery-safe-and-unsafe-touch-by-the-counselling-department/
END:VEVENT
BEGIN:VEVENT
DTSTART;VALUE=DATE:20251113
DTEND;VALUE=DATE:20251115
DTSTAMP:20260424T063534
CREATED:20250624T121209Z
LAST-MODIFIED:20250624T121209Z
UID:1184-1762992000-1763164799@calcuttais.edu.in
SUMMARY:Term 1 Summative Exams start for Grade AS
DESCRIPTION:
URL:https://calcuttais.edu.in/event/term-1-summative-exams-start-for-grade-as/
END:VEVENT
BEGIN:VEVENT
DTSTART;VALUE=DATE:20251114
DTEND;VALUE=DATE:20251115
DTSTAMP:20260424T063534
CREATED:20250624T121302Z
LAST-MODIFIED:20250624T121302Z
UID:1186-1763078400-1763164799@calcuttais.edu.in
SUMMARY:Primary & Junior Section Children Day Celebration - 9.30am-10.30am Study Leave for Grade IB1
DESCRIPTION:
URL:https://calcuttais.edu.in/event/primary-junior-section-children-day-celebration-9-30am-10-30am-study-leave-for-grade-ib1/
END:VEVENT
BEGIN:VEVENT
DTSTART;VALUE=DATE:20251115
DTEND;VALUE=DATE:20251116
DTSTAMP:20260424T063534
CREATED:20250624T121340Z
LAST-MODIFIED:20250624T121340Z
UID:1188-1763164800-1763251199@calcuttais.edu.in
SUMMARY:CIS SYMPOSIUM 3.0 (Senior School)
DESCRIPTION:
URL:https://calcuttais.edu.in/event/cis-symposium-3-0-senior-school/
END:VEVENT
BEGIN:VEVENT
DTSTART;VALUE=DATE:20251117
DTEND;VALUE=DATE:20251118
DTSTAMP:20260424T063534
CREATED:20250624T121457Z
LAST-MODIFIED:20250624T121457Z
UID:1190-1763337600-1763423999@calcuttais.edu.in
SUMMARY:Term 1 Summative Exams start for Grades 6 - 8 and IB1  Term 1 Scheduled Test 2 start for Grade A2
DESCRIPTION:
URL:https://calcuttais.edu.in/event/term-1-summative-exams-start-for-grades-6-8-and-ib1-term-1-scheduled-test-2-start-for-grade-a2/
END:VEVENT
BEGIN:VEVENT
DTSTART;VALUE=DATE:20251120
DTEND;VALUE=DATE:20251121
DTSTAMP:20260424T063534
CREATED:20250624T121702Z
LAST-MODIFIED:20250624T121702Z
UID:1192-1763596800-1763683199@calcuttais.edu.in
SUMMARY:Junior School Sports Day run through
DESCRIPTION:
URL:https://calcuttais.edu.in/event/junior-school-sports-day-run-through/
END:VEVENT
BEGIN:VEVENT
DTSTART;VALUE=DATE:20251122
DTEND;VALUE=DATE:20251123
DTSTAMP:20260424T063534
CREATED:20250624T121717Z
LAST-MODIFIED:20250624T121717Z
UID:1194-1763769600-1763855999@calcuttais.edu.in
SUMMARY:Junior School Annual Sports Day
DESCRIPTION:
URL:https://calcuttais.edu.in/event/junior-school-annual-sports-day/
END:VEVENT
BEGIN:VEVENT
DTSTART;VALUE=DATE:20251124
DTEND;VALUE=DATE:20251129
DTSTAMP:20260424T063534
CREATED:20250624T121743Z
LAST-MODIFIED:20250624T121743Z
UID:1196-1763942400-1764374399@calcuttais.edu.in
SUMMARY:Junior Section Inter House Table Tennis - Boys
DESCRIPTION:
URL:https://calcuttais.edu.in/event/junior-section-inter-house-table-tennis-boys/
END:VEVENT
BEGIN:VEVENT
DTSTART;VALUE=DATE:20251126
DTEND;VALUE=DATE:20251129
DTSTAMP:20260424T063534
CREATED:20250624T121805Z
LAST-MODIFIED:20250624T121805Z
UID:1198-1764115200-1764374399@calcuttais.edu.in
SUMMARY:ICT Workshop for Grades 4 & 5
DESCRIPTION:
URL:https://calcuttais.edu.in/event/ict-workshop-for-grades-4-5/
END:VEVENT
END:VCALENDAR