BEGIN:VCALENDAR
VERSION:2.0
PRODID:-//Calcutta International School - ECPv6.15.11//NONSGML v1.0//EN
CALSCALE:GREGORIAN
METHOD:PUBLISH
X-ORIGINAL-URL:https://calcuttais.edu.in
X-WR-CALDESC:Events for Calcutta International School
REFRESH-INTERVAL;VALUE=DURATION:PT1H
X-Robots-Tag:noindex
X-PUBLISHED-TTL:PT1H
BEGIN:VTIMEZONE
TZID:Asia/Kolkata
BEGIN:STANDARD
TZOFFSETFROM:+0530
TZOFFSETTO:+0530
TZNAME:IST
DTSTART:20240101T000000
END:STANDARD
END:VTIMEZONE
BEGIN:VEVENT
DTSTART;VALUE=DATE:20251201
DTEND;VALUE=DATE:20251206
DTSTAMP:20260424T044931
CREATED:20250624T121830Z
LAST-MODIFIED:20250624T121830Z
UID:1200-1764547200-1764979199@calcuttais.edu.in
SUMMARY:Junior Section Inter House Table Tennis - Grils
DESCRIPTION:
URL:https://calcuttais.edu.in/event/junior-section-inter-house-table-tennis-grils/
END:VEVENT
BEGIN:VEVENT
DTSTART;VALUE=DATE:20251204
DTEND;VALUE=DATE:20251205
DTSTAMP:20260424T044931
CREATED:20250624T121853Z
LAST-MODIFIED:20250624T121853Z
UID:1202-1764806400-1764892799@calcuttais.edu.in
SUMMARY:Travel and Tourism Fair Grade AS
DESCRIPTION:
URL:https://calcuttais.edu.in/event/travel-and-tourism-fair-grade-as/
END:VEVENT
BEGIN:VEVENT
DTSTART;VALUE=DATE:20251205
DTEND;VALUE=DATE:20251206
DTSTAMP:20260424T044931
CREATED:20250624T121915Z
LAST-MODIFIED:20250624T121915Z
UID:1204-1764892800-1764979199@calcuttais.edu.in
SUMMARY:IGCSE Knowledge Seminar for Grade 8
DESCRIPTION:
URL:https://calcuttais.edu.in/event/igcse-knowledge-seminar-for-grade-8/
END:VEVENT
BEGIN:VEVENT
DTSTART;VALUE=DATE:20251206
DTEND;VALUE=DATE:20251207
DTSTAMP:20260424T044931
CREATED:20250624T121929Z
LAST-MODIFIED:20250624T121929Z
UID:1206-1764979200-1765065599@calcuttais.edu.in
SUMMARY:SAT
DESCRIPTION:
URL:https://calcuttais.edu.in/event/sat-3/
END:VEVENT
BEGIN:VEVENT
DTSTART;VALUE=DATE:20251209
DTEND;VALUE=DATE:20251210
DTSTAMP:20260424T044931
CREATED:20250624T121951Z
LAST-MODIFIED:20250624T121951Z
UID:1208-1765238400-1765324799@calcuttais.edu.in
SUMMARY:Report Card distribution - Grades Pre Nursery to 5
DESCRIPTION:
URL:https://calcuttais.edu.in/event/report-card-distribution-grades-pre-nursery-to-5/
END:VEVENT
BEGIN:VEVENT
DTSTART;VALUE=DATE:20251210
DTEND;VALUE=DATE:20251211
DTSTAMP:20260424T044931
CREATED:20250624T122027Z
LAST-MODIFIED:20250624T122027Z
UID:1210-1765324800-1765411199@calcuttais.edu.in
SUMMARY:Prize Distribution - Grades 1\,2 and 3
DESCRIPTION:
URL:https://calcuttais.edu.in/event/prize-distribution-grades-12-and-3/
END:VEVENT
BEGIN:VEVENT
DTSTART;VALUE=DATE:20251211
DTEND;VALUE=DATE:20251212
DTSTAMP:20260424T044931
CREATED:20250624T122056Z
LAST-MODIFIED:20250624T122056Z
UID:1212-1765411200-1765497599@calcuttais.edu.in
SUMMARY:Prize Distribution - Grades 4 & 5 Science Olympiad
DESCRIPTION:
URL:https://calcuttais.edu.in/event/prize-distribution-grades-4-5-science-olympiad/
END:VEVENT
BEGIN:VEVENT
DTSTART;VALUE=DATE:20251212
DTEND;VALUE=DATE:20251213
DTSTAMP:20260424T044931
CREATED:20250624T122120Z
LAST-MODIFIED:20250624T122120Z
UID:1214-1765497600-1765583999@calcuttais.edu.in
SUMMARY:Math Olympiad
DESCRIPTION:
URL:https://calcuttais.edu.in/event/math-olympiad/
END:VEVENT
BEGIN:VEVENT
DTSTART;VALUE=DATE:20251215
DTEND;VALUE=DATE:20251216
DTSTAMP:20260424T044931
CREATED:20250624T122142Z
LAST-MODIFIED:20250624T122142Z
UID:1216-1765756800-1765843199@calcuttais.edu.in
SUMMARY:Prize Distribution -Senior School
DESCRIPTION:
URL:https://calcuttais.edu.in/event/prize-distribution-senior-school/
END:VEVENT
BEGIN:VEVENT
DTSTART;VALUE=DATE:20251216
DTEND;VALUE=DATE:20251217
DTSTAMP:20260424T044931
CREATED:20250624T122212Z
LAST-MODIFIED:20250624T122212Z
UID:1218-1765843200-1765929599@calcuttais.edu.in
SUMMARY:EYP Stage Rehearsal
DESCRIPTION:
URL:https://calcuttais.edu.in/event/eyp-stage-rehearsal/
END:VEVENT
BEGIN:VEVENT
DTSTART;VALUE=DATE:20251217
DTEND;VALUE=DATE:20251218
DTSTAMP:20260424T044931
CREATED:20250624T122229Z
LAST-MODIFIED:20250624T122229Z
UID:1220-1765929600-1766015999@calcuttais.edu.in
SUMMARY:EYP
DESCRIPTION:
URL:https://calcuttais.edu.in/event/eyp/
END:VEVENT
BEGIN:VEVENT
DTSTART;VALUE=DATE:20251218
DTEND;VALUE=DATE:20251222
DTSTAMP:20260424T044931
CREATED:20250624T122257Z
LAST-MODIFIED:20250624T122257Z
UID:1222-1766016000-1766361599@calcuttais.edu.in
SUMMARY:Class Trip for Grades A2 and IB2
DESCRIPTION:
URL:https://calcuttais.edu.in/event/class-trip-for-grades-a2-and-ib2/
END:VEVENT
BEGIN:VEVENT
DTSTART;VALUE=DATE:20251218
DTEND;VALUE=DATE:20251225
DTSTAMP:20260424T044931
CREATED:20250624T122328Z
LAST-MODIFIED:20250624T122328Z
UID:1224-1766016000-1766620799@calcuttais.edu.in
SUMMARY:IAYP for Grades 9\, 10 and AS
DESCRIPTION:
URL:https://calcuttais.edu.in/event/iayp-for-grades-9-10-and-as/
END:VEVENT
BEGIN:VEVENT
DTSTART;VALUE=DATE:20251219
DTEND;VALUE=DATE:20251220
DTSTAMP:20260424T044931
CREATED:20250624T122404Z
LAST-MODIFIED:20250624T122404Z
UID:1226-1766102400-1766188799@calcuttais.edu.in
SUMMARY:Last working day for Students and Teachers
DESCRIPTION:Junior Section Carol Singing – Junior Choir – 9.00am-10.00am\nClass Party – Grades Pre Nursery to 5 – 10.15am – 11.00am
URL:https://calcuttais.edu.in/event/last-working-day-for-students-and-teachers/
END:VEVENT
BEGIN:VEVENT
DTSTART;VALUE=DATE:20251220
DTEND;VALUE=DATE:20260107
DTSTAMP:20260424T044931
CREATED:20250624T122500Z
LAST-MODIFIED:20250624T122500Z
UID:1228-1766188800-1767743999@calcuttais.edu.in
SUMMARY:WINTER VACATION
DESCRIPTION:
URL:https://calcuttais.edu.in/event/winter-vacation/
END:VEVENT
END:VCALENDAR