BEGIN:VCALENDAR
VERSION:2.0
PRODID:-//Calcutta International School - ECPv6.15.11//NONSGML v1.0//EN
CALSCALE:GREGORIAN
METHOD:PUBLISH
X-WR-CALNAME:Calcutta International School
X-ORIGINAL-URL:https://calcuttais.edu.in
X-WR-CALDESC:Events for Calcutta International School
REFRESH-INTERVAL;VALUE=DURATION:PT1H
X-Robots-Tag:noindex
X-PUBLISHED-TTL:PT1H
BEGIN:VTIMEZONE
TZID:Asia/Kolkata
BEGIN:STANDARD
TZOFFSETFROM:+0530
TZOFFSETTO:+0530
TZNAME:IST
DTSTART:20240101T000000
END:STANDARD
END:VTIMEZONE
BEGIN:VEVENT
DTSTART;VALUE=DATE:20251220
DTEND;VALUE=DATE:20260107
DTSTAMP:20260424T030205
CREATED:20250624T122500Z
LAST-MODIFIED:20250624T122500Z
UID:1228-1766188800-1767743999@calcuttais.edu.in
SUMMARY:WINTER VACATION
DESCRIPTION:
URL:https://calcuttais.edu.in/event/winter-vacation/
END:VEVENT
BEGIN:VEVENT
DTSTART;VALUE=DATE:20260103
DTEND;VALUE=DATE:20260104
DTSTAMP:20260424T030205
CREATED:20250624T122741Z
LAST-MODIFIED:20250624T122741Z
UID:1230-1767398400-1767484799@calcuttais.edu.in
SUMMARY:Alumni Meet
DESCRIPTION:
URL:https://calcuttais.edu.in/event/alumni-meet/
END:VEVENT
BEGIN:VEVENT
DTSTART;VALUE=DATE:20260106
DTEND;VALUE=DATE:20260107
DTSTAMP:20260424T030205
CREATED:20250624T122812Z
LAST-MODIFIED:20250624T122812Z
UID:1232-1767657600-1767743999@calcuttais.edu.in
SUMMARY:School reopens for Teachers
DESCRIPTION:
URL:https://calcuttais.edu.in/event/school-reopens-for-teachers/
END:VEVENT
BEGIN:VEVENT
DTSTART;VALUE=DATE:20260107
DTEND;VALUE=DATE:20260108
DTSTAMP:20260424T030205
CREATED:20250624T122833Z
LAST-MODIFIED:20250624T122833Z
UID:1234-1767744000-1767830399@calcuttais.edu.in
SUMMARY:School reopens for Students
DESCRIPTION:
URL:https://calcuttais.edu.in/event/school-reopens-for-students/
END:VEVENT
BEGIN:VEVENT
DTSTART;VALUE=DATE:20260107
DTEND;VALUE=DATE:20260110
DTSTAMP:20260424T030205
CREATED:20250624T123006Z
LAST-MODIFIED:20250624T123006Z
UID:1238-1767744000-1768003199@calcuttais.edu.in
SUMMARY:CAS Trip for Grade IB1
DESCRIPTION:
URL:https://calcuttais.edu.in/event/cas-trip-for-grade-ib1/
END:VEVENT
BEGIN:VEVENT
DTSTART;VALUE=DATE:20260107
DTEND;VALUE=DATE:20260111
DTSTAMP:20260424T030205
CREATED:20250624T122933Z
LAST-MODIFIED:20250624T122933Z
UID:1236-1767744000-1768089599@calcuttais.edu.in
SUMMARY:Class Trip for Grades 7 to 10 and AS
DESCRIPTION:
URL:https://calcuttais.edu.in/event/class-trip-for-grades-7-to-10-and-as/
END:VEVENT
BEGIN:VEVENT
DTSTART;VALUE=DATE:20260107
DTEND;VALUE=DATE:20260117
DTSTAMP:20260424T030205
CREATED:20250624T123030Z
LAST-MODIFIED:20250624T123030Z
UID:1240-1767744000-1768607999@calcuttais.edu.in
SUMMARY:A2 Mock Exams start for February-March Series
DESCRIPTION:
URL:https://calcuttais.edu.in/event/a2-mock-exams-start-for-february-march-series/
END:VEVENT
BEGIN:VEVENT
DTSTART;VALUE=DATE:20260109
DTEND;VALUE=DATE:20260114
DTSTAMP:20260424T030205
CREATED:20250624T130622Z
LAST-MODIFIED:20250624T130622Z
UID:1299-1767916800-1768348799@calcuttais.edu.in
SUMMARY:Primary & Junior Section Author Week
DESCRIPTION:
URL:https://calcuttais.edu.in/event/primary-junior-section-author-week/
END:VEVENT
BEGIN:VEVENT
DTSTART;VALUE=DATE:20260112
DTEND;VALUE=DATE:20260113
DTSTAMP:20260424T030205
CREATED:20250624T123118Z
LAST-MODIFIED:20250624T123118Z
UID:1242-1768176000-1768262399@calcuttais.edu.in
SUMMARY:Coffee Meet for Grade IB2
DESCRIPTION:
URL:https://calcuttais.edu.in/event/coffee-meet-for-grade-ib2/
END:VEVENT
BEGIN:VEVENT
DTSTART;VALUE=DATE:20260112
DTEND;VALUE=DATE:20260117
DTSTAMP:20260424T030205
CREATED:20250624T123202Z
LAST-MODIFIED:20250624T123202Z
UID:1244-1768176000-1768607999@calcuttais.edu.in
SUMMARY:Handwriting Challenge - Grades 1 to 5
DESCRIPTION:
URL:https://calcuttais.edu.in/event/handwriting-challenge-grades-1-to-5/
END:VEVENT
BEGIN:VEVENT
DTSTART;VALUE=DATE:20260112
DTEND;VALUE=DATE:20260129
DTSTAMP:20260424T030205
CREATED:20250624T123250Z
LAST-MODIFIED:20250624T123250Z
UID:1246-1768176000-1769644799@calcuttais.edu.in
SUMMARY:Term 2 Scheduled Tests start for Grade IB2
DESCRIPTION:
URL:https://calcuttais.edu.in/event/term-2-scheduled-tests-start-for-grade-ib2/
END:VEVENT
BEGIN:VEVENT
DTSTART;VALUE=DATE:20260114
DTEND;VALUE=DATE:20260115
DTSTAMP:20260424T030205
CREATED:20250624T124634Z
LAST-MODIFIED:20250624T124634Z
UID:1248-1768348800-1768435199@calcuttais.edu.in
SUMMARY:Coffee Meet for Grade A2
DESCRIPTION:
URL:https://calcuttais.edu.in/event/coffee-meet-for-grade-a2/
END:VEVENT
BEGIN:VEVENT
DTSTART;VALUE=DATE:20260115
DTEND;VALUE=DATE:20260116
DTSTAMP:20260424T030205
CREATED:20250624T124654Z
LAST-MODIFIED:20250624T124654Z
UID:1251-1768435200-1768521599@calcuttais.edu.in
SUMMARY:Coffee Meet for Grade 10
DESCRIPTION:
URL:https://calcuttais.edu.in/event/coffee-meet-for-grade-10-2/
END:VEVENT
BEGIN:VEVENT
DTSTART;VALUE=DATE:20260116
DTEND;VALUE=DATE:20260117
DTSTAMP:20260424T030205
CREATED:20250624T124743Z
LAST-MODIFIED:20250624T124743Z
UID:1253-1768521600-1768607999@calcuttais.edu.in
SUMMARY:Session with Primary section parents on handwriting Handwriting Challenge for Grades 1-5 Coffee Meet for Grade AS
DESCRIPTION:
URL:https://calcuttais.edu.in/event/session-with-primary-section-parents-on-handwriting-handwriting-challenge-for-grades-1-5-coffee-meet-for-grade-as/
END:VEVENT
BEGIN:VEVENT
DTSTART;VALUE=DATE:20260116
DTEND;VALUE=DATE:20260120
DTSTAMP:20260424T030205
CREATED:20250624T124814Z
LAST-MODIFIED:20250624T124814Z
UID:1255-1768521600-1768867199@calcuttais.edu.in
SUMMARY:Class Trip for Grade 6
DESCRIPTION:
URL:https://calcuttais.edu.in/event/class-trip-for-grade-6/
END:VEVENT
BEGIN:VEVENT
DTSTART;VALUE=DATE:20260120
DTEND;VALUE=DATE:20260121
DTSTAMP:20260424T030205
CREATED:20250624T124919Z
LAST-MODIFIED:20250624T124919Z
UID:1257-1768867200-1768953599@calcuttais.edu.in
SUMMARY:Class Excursion - Grade Pre Nursery
DESCRIPTION:
URL:https://calcuttais.edu.in/event/class-excursion-grade-pre-nursery/
END:VEVENT
BEGIN:VEVENT
DTSTART;VALUE=DATE:20260121
DTEND;VALUE=DATE:20260122
DTSTAMP:20260424T030205
CREATED:20250624T124943Z
LAST-MODIFIED:20250624T124943Z
UID:1259-1768953600-1769039999@calcuttais.edu.in
SUMMARY:Class Excursion - Grade Nursery Coffee Meet for Grade 8
DESCRIPTION:
URL:https://calcuttais.edu.in/event/class-excursion-grade-nursery-coffee-meet-for-grade-8/
END:VEVENT
BEGIN:VEVENT
DTSTART;VALUE=DATE:20260122
DTEND;VALUE=DATE:20260123
DTSTAMP:20260424T030205
CREATED:20250624T125120Z
LAST-MODIFIED:20250624T125130Z
UID:1261-1769040000-1769126399@calcuttais.edu.in
SUMMARY:Class Excursion - Grade Upper Nursery Coffee Meet for Grade 7 Prom Night for Grades 9 to 12
DESCRIPTION:
URL:https://calcuttais.edu.in/event/class-excursion-grade-upper-nursery-coffee-meet-for-grade-7-prom-night-for-grades-9-to-12/
END:VEVENT
BEGIN:VEVENT
DTSTART;VALUE=DATE:20260123
DTEND;VALUE=DATE:20260124
DTSTAMP:20260424T030205
CREATED:20250624T125154Z
LAST-MODIFIED:20250624T125154Z
UID:1263-1769126400-1769212799@calcuttais.edu.in
SUMMARY:SARASWATI PUJA / NETAJI'S BIRTHDAY - HOLIDAY
DESCRIPTION:
URL:https://calcuttais.edu.in/event/saraswati-puja-netajis-birthday-holiday/
CATEGORIES:Holiday
END:VEVENT
BEGIN:VEVENT
DTSTART;VALUE=DATE:20260126
DTEND;VALUE=DATE:20260127
DTSTAMP:20260424T030205
CREATED:20250624T125217Z
LAST-MODIFIED:20250624T125217Z
UID:1265-1769385600-1769471999@calcuttais.edu.in
SUMMARY:REPUBLIC DAY - HOLIDAY
DESCRIPTION:
URL:https://calcuttais.edu.in/event/republic-day-holiday/
END:VEVENT
BEGIN:VEVENT
DTSTART;VALUE=DATE:20260127
DTEND;VALUE=DATE:20260128
DTSTAMP:20260424T030205
CREATED:20250624T125247Z
LAST-MODIFIED:20250624T125247Z
UID:1267-1769472000-1769558399@calcuttais.edu.in
SUMMARY:Junior Section Inter House Basketball Tournament - Boys
DESCRIPTION:
URL:https://calcuttais.edu.in/event/junior-section-inter-house-basketball-tournament-boys/
END:VEVENT
BEGIN:VEVENT
DTSTART;VALUE=DATE:20260128
DTEND;VALUE=DATE:20260129
DTSTAMP:20260424T030205
CREATED:20250624T125312Z
LAST-MODIFIED:20250624T125312Z
UID:1269-1769558400-1769644799@calcuttais.edu.in
SUMMARY:Junior Section Inter House Basketball Tournament - Boys Coffee Meet for Grade 9
DESCRIPTION:
URL:https://calcuttais.edu.in/event/junior-section-inter-house-basketball-tournament-boys-coffee-meet-for-grade-9/
END:VEVENT
BEGIN:VEVENT
DTSTART;VALUE=DATE:20260129
DTEND;VALUE=DATE:20260130
DTSTAMP:20260424T030205
CREATED:20250624T125337Z
LAST-MODIFIED:20250624T125337Z
UID:1271-1769644800-1769731199@calcuttais.edu.in
SUMMARY:Sports Day Heats Senior School
DESCRIPTION:
URL:https://calcuttais.edu.in/event/sports-day-heats-senior-school/
END:VEVENT
BEGIN:VEVENT
DTSTART;VALUE=DATE:20260130
DTEND;VALUE=DATE:20260131
DTSTAMP:20260424T030205
CREATED:20250624T125353Z
LAST-MODIFIED:20250624T125353Z
UID:1273-1769731200-1769817599@calcuttais.edu.in
SUMMARY:Senior School Sports Day
DESCRIPTION:
URL:https://calcuttais.edu.in/event/senior-school-sports-day/
END:VEVENT
END:VCALENDAR