BEGIN:VCALENDAR
VERSION:2.0
PRODID:-//Calcutta International School - ECPv6.15.11//NONSGML v1.0//EN
CALSCALE:GREGORIAN
METHOD:PUBLISH
X-WR-CALNAME:Calcutta International School
X-ORIGINAL-URL:https://calcuttais.edu.in
X-WR-CALDESC:Events for Calcutta International School
REFRESH-INTERVAL;VALUE=DURATION:PT1H
X-Robots-Tag:noindex
X-PUBLISHED-TTL:PT1H
BEGIN:VTIMEZONE
TZID:Asia/Kolkata
BEGIN:STANDARD
TZOFFSETFROM:+0530
TZOFFSETTO:+0530
TZNAME:IST
DTSTART:20250101T000000
END:STANDARD
END:VTIMEZONE
BEGIN:VEVENT
DTSTART;VALUE=DATE:20260302
DTEND;VALUE=DATE:20260309
DTSTAMP:20260423T232757
CREATED:20250624T131515Z
LAST-MODIFIED:20250624T131515Z
UID:1325-1772409600-1773014399@calcuttais.edu.in
SUMMARY:SPRING BREAK - HOLIDAY
DESCRIPTION:
URL:https://calcuttais.edu.in/event/spring-break-holiday/
CATEGORIES:Holiday
END:VEVENT
BEGIN:VEVENT
DTSTART;VALUE=DATE:20260309
DTEND;VALUE=DATE:20260310
DTSTAMP:20260423T232757
CREATED:20250624T131542Z
LAST-MODIFIED:20250624T131542Z
UID:1327-1773014400-1773100799@calcuttais.edu.in
SUMMARY:School reopens for Teachers & Students Mock Exams start for Grades 10\, A2 and IB2
DESCRIPTION:
URL:https://calcuttais.edu.in/event/school-reopens-for-teachers-students-mock-exams-start-for-grades-10-a2-and-ib2/
END:VEVENT
BEGIN:VEVENT
DTSTART;VALUE=DATE:20260313
DTEND;VALUE=DATE:20260314
DTSTAMP:20260423T232757
CREATED:20250624T131628Z
LAST-MODIFIED:20250624T131628Z
UID:1329-1773360000-1773446399@calcuttais.edu.in
SUMMARY:Drama Event - Upper Nursery PTM for Grade IB1
DESCRIPTION:
URL:https://calcuttais.edu.in/event/drama-event-upper-nursery-ptm-for-grade-ib1/
END:VEVENT
BEGIN:VEVENT
DTSTART;VALUE=DATE:20260314
DTEND;VALUE=DATE:20260315
DTSTAMP:20260423T232757
CREATED:20250624T131721Z
LAST-MODIFIED:20250624T131721Z
UID:1331-1773446400-1773532799@calcuttais.edu.in
SUMMARY:PTM : Grades Nursery\, Upper Nursery and 3 PTM for Grades 6 and 9 SAT
DESCRIPTION:
URL:https://calcuttais.edu.in/event/ptm-grades-nursery-upper-nursery-and-3-ptm-for-grades-6-and-9-sat/
END:VEVENT
BEGIN:VEVENT
DTSTART;VALUE=DATE:20260318
DTEND;VALUE=DATE:20260319
DTSTAMP:20260423T232757
CREATED:20250624T131835Z
LAST-MODIFIED:20250624T131835Z
UID:1333-1773792000-1773878399@calcuttais.edu.in
SUMMARY:Maths Science Quiz - Grades 1 & 2
DESCRIPTION:
URL:https://calcuttais.edu.in/event/maths-science-quiz-grades-1-2/
END:VEVENT
BEGIN:VEVENT
DTSTART;VALUE=DATE:20260321
DTEND;VALUE=DATE:20260322
DTSTAMP:20260423T232757
CREATED:20250624T133438Z
LAST-MODIFIED:20250624T133438Z
UID:1337-1774051200-1774137599@calcuttais.edu.in
SUMMARY:PTM: Grades 1 and 4
DESCRIPTION:
URL:https://calcuttais.edu.in/event/ptm-grades-1-and-4/
END:VEVENT
BEGIN:VEVENT
DTSTART;VALUE=DATE:20260323
DTEND;VALUE=DATE:20260328
DTSTAMP:20260423T232757
CREATED:20250624T133501Z
LAST-MODIFIED:20250624T133501Z
UID:1339-1774224000-1774655999@calcuttais.edu.in
SUMMARY:Library Quiz - Grades 3 to 5
DESCRIPTION:
URL:https://calcuttais.edu.in/event/library-quiz-grades-3-to-5/
END:VEVENT
BEGIN:VEVENT
DTSTART;VALUE=DATE:20260324
DTEND;VALUE=DATE:20260325
DTSTAMP:20260423T232757
CREATED:20250624T133637Z
LAST-MODIFIED:20250624T133637Z
UID:1341-1774310400-1774396799@calcuttais.edu.in
SUMMARY:Junior Section Friendly Basketball Match - Boys
DESCRIPTION:
URL:https://calcuttais.edu.in/event/junior-section-friendly-basketball-match-boys/
END:VEVENT
BEGIN:VEVENT
DTSTART;VALUE=DATE:20260325
DTEND;VALUE=DATE:20260326
DTSTAMP:20260423T232757
CREATED:20250624T133807Z
LAST-MODIFIED:20250624T133807Z
UID:1343-1774396800-1774483199@calcuttais.edu.in
SUMMARY:Math Science Quiz - Upper Nursery A
DESCRIPTION:
URL:https://calcuttais.edu.in/event/math-science-quiz-upper-nursery-a/
END:VEVENT
BEGIN:VEVENT
DTSTART;VALUE=DATE:20260326
DTEND;VALUE=DATE:20260327
DTSTAMP:20260423T232757
CREATED:20250624T133836Z
LAST-MODIFIED:20250624T133836Z
UID:1345-1774483200-1774569599@calcuttais.edu.in
SUMMARY:Math Science Quiz - Upper Nursery B
DESCRIPTION:
URL:https://calcuttais.edu.in/event/math-science-quiz-upper-nursery-b/
END:VEVENT
BEGIN:VEVENT
DTSTART;VALUE=DATE:20260327
DTEND;VALUE=DATE:20260328
DTSTAMP:20260423T232757
CREATED:20250624T134024Z
LAST-MODIFIED:20250624T134024Z
UID:1347-1774569600-1774655999@calcuttais.edu.in
SUMMARY:Junior Section Library Selfie Day Foreign Language Day - Grades 3 to 5 Junior Section Friendly Basketball Match - Girls
DESCRIPTION:
URL:https://calcuttais.edu.in/event/junior-section-library-selfie-day-foreign-language-day-grades-3-to-5-junior-section-friendly-basketball-match-girls/
END:VEVENT
BEGIN:VEVENT
DTSTART;VALUE=DATE:20260328
DTEND;VALUE=DATE:20260329
DTSTAMP:20260423T232757
CREATED:20250624T134104Z
LAST-MODIFIED:20250624T134104Z
UID:1349-1774656000-1774742399@calcuttais.edu.in
SUMMARY:PTM: Grades Pre Nursery\, 2 and 5
DESCRIPTION:
URL:https://calcuttais.edu.in/event/ptm-grades-pre-nursery-2-and-5/
END:VEVENT
BEGIN:VEVENT
DTSTART;VALUE=DATE:20260331
DTEND;VALUE=DATE:20260401
DTSTAMP:20260423T232757
CREATED:20250624T134136Z
LAST-MODIFIED:20250624T134136Z
UID:1351-1774915200-1775001599@calcuttais.edu.in
SUMMARY:Online check ins - Grades 2 to 5 - 2.40pm-3.15pm Study Leave for Grade 9
DESCRIPTION:
URL:https://calcuttais.edu.in/event/online-check-ins-grades-2-to-5-2-40pm-3-15pm-study-leave-for-grade-9/
END:VEVENT
END:VCALENDAR