BEGIN:VCALENDAR
VERSION:2.0
PRODID:-//Calcutta International School - ECPv6.15.11//NONSGML v1.0//EN
CALSCALE:GREGORIAN
METHOD:PUBLISH
X-WR-CALNAME:Calcutta International School
X-ORIGINAL-URL:https://calcuttais.edu.in
X-WR-CALDESC:Events for Calcutta International School
REFRESH-INTERVAL;VALUE=DURATION:PT1H
X-Robots-Tag:noindex
X-PUBLISHED-TTL:PT1H
BEGIN:VTIMEZONE
TZID:Asia/Kolkata
BEGIN:STANDARD
TZOFFSETFROM:+0530
TZOFFSETTO:+0530
TZNAME:IST
DTSTART:20250101T000000
END:STANDARD
END:VTIMEZONE
BEGIN:VEVENT
DTSTART;VALUE=DATE:20260420
DTEND;VALUE=DATE:20260509
DTSTAMP:20260423T233717
CREATED:20250624T135536Z
LAST-MODIFIED:20250624T135536Z
UID:1373-1776643200-1778284799@calcuttais.edu.in
SUMMARY:Junior School - Reissuing of Library Reference and Fiction Books
DESCRIPTION:
URL:https://calcuttais.edu.in/event/junior-school-reissuing-of-library-reference-and-fiction-books/
END:VEVENT
BEGIN:VEVENT
DTSTART;VALUE=DATE:20260427
DTEND;VALUE=DATE:20260503
DTSTAMP:20260423T233717
CREATED:20250624T135734Z
LAST-MODIFIED:20250624T135734Z
UID:1381-1777248000-1777766399@calcuttais.edu.in
SUMMARY:CAS Trip for Grade IB1
DESCRIPTION:
URL:https://calcuttais.edu.in/event/cas-trip-for-grade-ib1-2/
END:VEVENT
BEGIN:VEVENT
DTSTART;VALUE=DATE:20260504
DTEND;VALUE=DATE:20260505
DTSTAMP:20260423T233717
CREATED:20250624T135820Z
LAST-MODIFIED:20250624T135820Z
UID:1386-1777852800-1777939199@calcuttais.edu.in
SUMMARY:Prize Distribution - Grades 1 to 3 Middle School Binary Harmony
DESCRIPTION:
URL:https://calcuttais.edu.in/event/prize-distribution-grades-1-to-3-middle-school-binary-harmony/
END:VEVENT
BEGIN:VEVENT
DTSTART;VALUE=DATE:20260505
DTEND;VALUE=DATE:20260506
DTSTAMP:20260423T233717
CREATED:20250624T135846Z
LAST-MODIFIED:20250624T135846Z
UID:1388-1777939200-1778025599@calcuttais.edu.in
SUMMARY:Report Card Distribution-Primary & Junior Section Prize Distribution - Grades 4 & 5
DESCRIPTION:
URL:https://calcuttais.edu.in/event/report-card-distribution-primary-junior-section-prize-distribution-grades-4-5/
END:VEVENT
BEGIN:VEVENT
DTSTART;VALUE=DATE:20260506
DTEND;VALUE=DATE:20260507
DTSTAMP:20260423T233717
CREATED:20250624T135903Z
LAST-MODIFIED:20250624T135903Z
UID:1390-1778025600-1778111999@calcuttais.edu.in
SUMMARY:Outstanding Student Award Ceremony / Farewell - Grade 5
DESCRIPTION:
URL:https://calcuttais.edu.in/event/outstanding-student-award-ceremony-farewell-grade-5/
END:VEVENT
BEGIN:VEVENT
DTSTART;VALUE=DATE:20260507
DTEND;VALUE=DATE:20260508
DTSTAMP:20260423T233717
CREATED:20250624T135949Z
LAST-MODIFIED:20250624T135949Z
UID:1392-1778112000-1778198399@calcuttais.edu.in
SUMMARY:Report Cards to be returned -Primary and Junior Section Rabindra Jayanti Assembly Primary Section Rabindra Jayanti Assembly Junior Section by Grade 4 and Junior Choir
DESCRIPTION:
URL:https://calcuttais.edu.in/event/report-cards-to-be-returned-primary-and-junior-section-rabindra-jayanti-assembly-primary-section-rabindra-jayanti-assembly-junior-section-by-grade-4-and-junior-choir/
END:VEVENT
BEGIN:VEVENT
DTSTART;VALUE=DATE:20260508
DTEND;VALUE=DATE:20260509
DTSTAMP:20260423T233717
CREATED:20250624T140032Z
LAST-MODIFIED:20250624T140032Z
UID:1394-1778198400-1778284799@calcuttais.edu.in
SUMMARY:Class Party -Primary and Junior Section Last working day for Teachers and Students Prize Distribution - Middle & Senior School
DESCRIPTION:
URL:https://calcuttais.edu.in/event/class-party-primary-and-junior-section-last-working-day-for-teachers-and-students-prize-distribution-middle-senior-school/
END:VEVENT
BEGIN:VEVENT
DTSTART;VALUE=DATE:20260509
DTEND;VALUE=DATE:20260616
DTSTAMP:20260423T233717
CREATED:20250624T140119Z
LAST-MODIFIED:20250625T054449Z
UID:1396-1778284800-1781567999@calcuttais.edu.in
SUMMARY:SUMMER HOLIDAY Teachers Report to School on 8th June 2026 Students Report to School on 16th June 2026
DESCRIPTION:
URL:https://calcuttais.edu.in/event/summer-holiday-teachers-report-to-school-on-8th-june-2026-students-report-to-school-on-16th-june-2026/
CATEGORIES:Holiday
END:VEVENT
END:VCALENDAR