BEGIN:VCALENDAR
VERSION:2.0
PRODID:-//Calcutta International School - ECPv6.15.11//NONSGML v1.0//EN
CALSCALE:GREGORIAN
METHOD:PUBLISH
X-WR-CALNAME:Calcutta International School
X-ORIGINAL-URL:https://calcuttais.edu.in
X-WR-CALDESC:Events for Calcutta International School
REFRESH-INTERVAL;VALUE=DURATION:PT1H
X-Robots-Tag:noindex
X-PUBLISHED-TTL:PT1H
BEGIN:VTIMEZONE
TZID:Asia/Kolkata
BEGIN:STANDARD
TZOFFSETFROM:+0530
TZOFFSETTO:+0530
TZNAME:IST
DTSTART:20250101T000000
END:STANDARD
END:VTIMEZONE
BEGIN:VEVENT
DTSTART;VALUE=DATE:20260420
DTEND;VALUE=DATE:20260509
DTSTAMP:20260424T010625
CREATED:20250624T135536Z
LAST-MODIFIED:20250624T135536Z
UID:1373-1776643200-1778284799@calcuttais.edu.in
SUMMARY:Junior School - Reissuing of Library Reference and Fiction Books
DESCRIPTION:
URL:https://calcuttais.edu.in/event/junior-school-reissuing-of-library-reference-and-fiction-books/
END:VEVENT
BEGIN:VEVENT
DTSTART;VALUE=DATE:20260424
DTEND;VALUE=DATE:20260425
DTSTAMP:20260424T010625
CREATED:20250624T135706Z
LAST-MODIFIED:20250624T135706Z
UID:1379-1776988800-1777075199@calcuttais.edu.in
SUMMARY:Music Assembly - Grades 4 & 5 English Elocution Finals for Grade 8
DESCRIPTION:
URL:https://calcuttais.edu.in/event/music-assembly-grades-4-5-english-elocution-finals-for-grade-8/
END:VEVENT
BEGIN:VEVENT
DTSTART;VALUE=DATE:20260427
DTEND;VALUE=DATE:20260503
DTSTAMP:20260424T010625
CREATED:20250624T135734Z
LAST-MODIFIED:20250624T135734Z
UID:1381-1777248000-1777766399@calcuttais.edu.in
SUMMARY:CAS Trip for Grade IB1
DESCRIPTION:
URL:https://calcuttais.edu.in/event/cas-trip-for-grade-ib1-2/
END:VEVENT
BEGIN:VEVENT
DTSTART;VALUE=DATE:20260428
DTEND;VALUE=DATE:20260429
DTSTAMP:20260424T010625
CREATED:20250624T135745Z
LAST-MODIFIED:20250624T135753Z
UID:1383-1777334400-1777420799@calcuttais.edu.in
SUMMARY:Prize Distribution Day - Upper Nursery - 8.30am-9.30am IBDP Board Exams start
DESCRIPTION:
URL:https://calcuttais.edu.in/event/prize-distribution-day-upper-nursery-8-30am-9-30am-ibdp-board-exams-start/
END:VEVENT
END:VCALENDAR